BEGIN:VCALENDAR
VERSION:2.0
PRODID:-//Raidlog - ECPv6.15.20//NONSGML v1.0//EN
CALSCALE:GREGORIAN
METHOD:PUBLISH
X-WR-CALNAME:Raidlog
X-ORIGINAL-URL:https://raidlog.com
X-WR-CALDESC:Events for Raidlog
REFRESH-INTERVAL;VALUE=DURATION:PT1H
X-Robots-Tag:noindex
X-PUBLISHED-TTL:PT1H
BEGIN:VTIMEZONE
TZID:America/New_York
BEGIN:DAYLIGHT
TZOFFSETFROM:-0500
TZOFFSETTO:-0400
TZNAME:EDT
DTSTART:20230312T070000
END:DAYLIGHT
BEGIN:STANDARD
TZOFFSETFROM:-0400
TZOFFSETTO:-0500
TZNAME:EST
DTSTART:20231105T060000
END:STANDARD
BEGIN:DAYLIGHT
TZOFFSETFROM:-0500
TZOFFSETTO:-0400
TZNAME:EDT
DTSTART:20240310T070000
END:DAYLIGHT
BEGIN:STANDARD
TZOFFSETFROM:-0400
TZOFFSETTO:-0500
TZNAME:EST
DTSTART:20241103T060000
END:STANDARD
BEGIN:DAYLIGHT
TZOFFSETFROM:-0500
TZOFFSETTO:-0400
TZNAME:EDT
DTSTART:20250309T070000
END:DAYLIGHT
BEGIN:STANDARD
TZOFFSETFROM:-0400
TZOFFSETTO:-0500
TZNAME:EST
DTSTART:20251102T060000
END:STANDARD
END:VTIMEZONE
BEGIN:VEVENT
DTSTART;TZID=America/New_York:20240105T113000
DTEND;TZID=America/New_York:20240105T120000
DTSTAMP:20260419T132801
CREATED:20230918T135106Z
LAST-MODIFIED:20231101T011225Z
UID:30000013-1704454200-1704456000@raidlog.com
SUMMARY:RAIDLOG Office Hours - Decision T-chart
DESCRIPTION:Welcome to RAIDLOG.com’s Weekly Office Hours! Join us every Friday at 9:30 AM MST for a 30-minute power session. Dive into the world of project management with our experts\, where you’ll uncover invaluable tips and tricks. Discuss project risks\, and challenges\, and gain insights to supercharge your projects. Don’t miss your chance to elevate your skills and get your questions answered by our seasoned professionals. \n\nAgenda:\nDecision T-chart: planning and walking your leaders through decisions\nOpen questions and hands-on working session for RAIDLOG (bring your questions!)\nOpen questions about RAIDLOG integrations via Zapier and hands-on working session \nReplay Link:\nA replay link will be posted once the webinar takes place.
URL:https://raidlog.com/event/raidlog-office-hours-decision-t-chart/
LOCATION:Online
CATEGORIES:Office Hours
ATTACH;FMTTYPE=image/jpeg:https://raidlog.com/wp-content/uploads/2023/09/RAIDLOG-Office-Hours-Cover-18.jpg
ORGANIZER;CN="RAIDLOG":MAILTO:hello@raidlog.com
END:VEVENT
BEGIN:VEVENT
DTSTART;TZID=America/New_York:20240112T113000
DTEND;TZID=America/New_York:20240112T120000
DTSTAMP:20260419T132801
CREATED:20240111T163837Z
LAST-MODIFIED:20240111T164046Z
UID:30000030-1705059000-1705060800@raidlog.com
SUMMARY:RAIDLOG Weekly Office Hours
DESCRIPTION:Embark on a project management journey with our seasoned experts\, delving into a wealth of invaluable tips and tricks. Explore the intricacies of project risks and challenges\, gaining insights that will supercharge your projects. This is your golden opportunity to enhance your skills and have your questions answered by our professionals. \nPlus\, stay tuned for discussions on pricing\, permissions\, resolving issues\, and an exclusive preview of what’s coming down the pipeline. Elevate your project management game with us! \n \n 
URL:https://raidlog.com/event/raidlog-weekly-office-hours/2024-01-12/
LOCATION:Online
CATEGORIES:Office Hours
ATTACH;FMTTYPE=image/png:https://raidlog.com/wp-content/uploads/2024/01/RAIDLOG-Office-Hours-Cover.png
ORGANIZER;CN="RAIDLOG":MAILTO:hello@raidlog.com
END:VEVENT
BEGIN:VEVENT
DTSTART;TZID=America/New_York:20240119T113000
DTEND;TZID=America/New_York:20240119T120000
DTSTAMP:20260419T132801
CREATED:20240111T163837Z
LAST-MODIFIED:20240111T164046Z
UID:30000031-1705663800-1705665600@raidlog.com
SUMMARY:RAIDLOG Weekly Office Hours
DESCRIPTION:Embark on a project management journey with our seasoned experts\, delving into a wealth of invaluable tips and tricks. Explore the intricacies of project risks and challenges\, gaining insights that will supercharge your projects. This is your golden opportunity to enhance your skills and have your questions answered by our professionals. \nPlus\, stay tuned for discussions on pricing\, permissions\, resolving issues\, and an exclusive preview of what’s coming down the pipeline. Elevate your project management game with us! \n \n 
URL:https://raidlog.com/event/raidlog-weekly-office-hours/2024-01-19/
LOCATION:Online
CATEGORIES:Office Hours
ATTACH;FMTTYPE=image/png:https://raidlog.com/wp-content/uploads/2024/01/RAIDLOG-Office-Hours-Cover.png
ORGANIZER;CN="RAIDLOG":MAILTO:hello@raidlog.com
END:VEVENT
BEGIN:VEVENT
DTSTART;TZID=America/New_York:20240126T113000
DTEND;TZID=America/New_York:20240126T120000
DTSTAMP:20260419T132801
CREATED:20240111T163837Z
LAST-MODIFIED:20240111T164046Z
UID:30000032-1706268600-1706270400@raidlog.com
SUMMARY:RAIDLOG Weekly Office Hours
DESCRIPTION:Embark on a project management journey with our seasoned experts\, delving into a wealth of invaluable tips and tricks. Explore the intricacies of project risks and challenges\, gaining insights that will supercharge your projects. This is your golden opportunity to enhance your skills and have your questions answered by our professionals. \nPlus\, stay tuned for discussions on pricing\, permissions\, resolving issues\, and an exclusive preview of what’s coming down the pipeline. Elevate your project management game with us! \n \n 
URL:https://raidlog.com/event/raidlog-weekly-office-hours/2024-01-26/
LOCATION:Online
CATEGORIES:Office Hours
ATTACH;FMTTYPE=image/png:https://raidlog.com/wp-content/uploads/2024/01/RAIDLOG-Office-Hours-Cover.png
ORGANIZER;CN="RAIDLOG":MAILTO:hello@raidlog.com
END:VEVENT
END:VCALENDAR